BEGIN:VCALENDAR
VERSION:2.0
PRODID:SchoolNow
CALSCALE:GREGORIAN
BEGIN:VEVENT
UID:2fbec2c8-dd8f-11ef-8a2b-0e956362e35d
DTSTAMP:20250128T154732Z
SUMMARY:Boys 7th/8th Wrestling v. Whitesboro\, Rome Free Academy
LOCATION:Perry JH Cafeteria
URL;VALUE=URI:https://www.uticaschools.org/departments/athletics/calendar/7
 386687/boys-7th-8th-wrestling-v-whitesboro-rome-free-academy
DTSTART:20250124T210000Z
DTEND:20250124T220000Z
END:VEVENT
END:VCALENDAR
