BEGIN:VCALENDAR
VERSION:2.0
PRODID:SchoolNow
CALSCALE:GREGORIAN
BEGIN:VEVENT
UID:309c49a4-dd8f-11ef-b070-0e956362e35d
DTSTAMP:20250128T154733Z
SUMMARY:Girls (DMS) 7th/8th Volleyball @ Holland Patent (purple)
LOCATION:GWF Gym
URL;VALUE=URI:https://www.uticaschools.org/departments/athletics/calendar/7
 386843/girls-dms-7th-8th-volleyball-holland-patent-purple
DTSTART:20250108T213000Z
DTEND:20250108T230000Z
END:VEVENT
END:VCALENDAR
