BEGIN:VCALENDAR
VERSION:2.0
PRODID:SchoolNow
CALSCALE:GREGORIAN
BEGIN:VEVENT
UID:33b4532a-dd8f-11ef-9f9b-0e956362e35d
DTSTAMP:20250128T154738Z
SUMMARY:Boys Varsity Swimming/Diving v. Rome Free Academy
LOCATION:PHS Swimming Pool
URL;VALUE=URI:https://www.uticaschools.org/departments/athletics/calendar/7
 387586/boys-varsity-swimming-diving-v-rome-free-academy
DTSTART:20250107T213000Z
DTEND:20250107T223000Z
END:VEVENT
END:VCALENDAR
