BEGIN:VCALENDAR
VERSION:2.0
PRODID:SchoolNow
CALSCALE:GREGORIAN
BEGIN:VEVENT
UID:2479ce3a-1f1a-11f1-b06e-0a58a9feac02
DTSTAMP:20260330T195547Z
SUMMARY:MVCC Bridge Apps DUE
URL;VALUE=URI:https://www.uticaschools.org/departments/guidance-counseling-
 services/calendar/8915514/mvcc-bridge-apps-due
DTSTART;VALUE=DATE:20260402
DTEND;VALUE=DATE:20260403
END:VEVENT
END:VCALENDAR
